BEGIN:VCALENDAR
VERSION:2.0
PRODID:-//GiocoDiRuolo.org//Eventi//IT
BEGIN:VEVENT
UID:eventi-63@giocodiruolo.org
DTSTAMP:20260423T172147Z
DTSTART:20260424T213000
DTEND:20260425T003000
SUMMARY:Una Serata Come Tante al Ponte di Berendor - giocodiruolo.org
LOCATION:Ponte di Berendor
DESCRIPTION:Una serata primaverile\, il cielo stellato\, la musica di un piffero. Cosa pu&ograve\; andare storto?
END:VEVENT
END:VCALENDAR